BEGIN:VCALENDAR
VERSION:2.0
PRODID:-//Sebastian Krieger - Liedermacher - Austropop - ECPv6.15.20//NONSGML v1.0//EN
CALSCALE:GREGORIAN
METHOD:PUBLISH
X-WR-CALNAME:Sebastian Krieger - Liedermacher - Austropop
X-ORIGINAL-URL:https://www.sebastian-krieger.at
X-WR-CALDESC:Veranstaltungen für Sebastian Krieger - Liedermacher - Austropop
REFRESH-INTERVAL;VALUE=DURATION:PT1H
X-Robots-Tag:noindex
X-PUBLISHED-TTL:PT1H
BEGIN:VTIMEZONE
TZID:Europe/Berlin
BEGIN:DAYLIGHT
TZOFFSETFROM:+0100
TZOFFSETTO:+0200
TZNAME:CEST
DTSTART:20230326T010000
END:DAYLIGHT
BEGIN:STANDARD
TZOFFSETFROM:+0200
TZOFFSETTO:+0100
TZNAME:CET
DTSTART:20231029T010000
END:STANDARD
BEGIN:DAYLIGHT
TZOFFSETFROM:+0100
TZOFFSETTO:+0200
TZNAME:CEST
DTSTART:20240331T010000
END:DAYLIGHT
BEGIN:STANDARD
TZOFFSETFROM:+0200
TZOFFSETTO:+0100
TZNAME:CET
DTSTART:20241027T010000
END:STANDARD
BEGIN:DAYLIGHT
TZOFFSETFROM:+0100
TZOFFSETTO:+0200
TZNAME:CEST
DTSTART:20250330T010000
END:DAYLIGHT
BEGIN:STANDARD
TZOFFSETFROM:+0200
TZOFFSETTO:+0100
TZNAME:CET
DTSTART:20251026T010000
END:STANDARD
BEGIN:DAYLIGHT
TZOFFSETFROM:+0100
TZOFFSETTO:+0200
TZNAME:CEST
DTSTART:20260329T010000
END:DAYLIGHT
BEGIN:STANDARD
TZOFFSETFROM:+0200
TZOFFSETTO:+0100
TZNAME:CET
DTSTART:20261025T010000
END:STANDARD
BEGIN:DAYLIGHT
TZOFFSETFROM:+0100
TZOFFSETTO:+0200
TZNAME:CEST
DTSTART:20270328T010000
END:DAYLIGHT
BEGIN:STANDARD
TZOFFSETFROM:+0200
TZOFFSETTO:+0100
TZNAME:CET
DTSTART:20271031T010000
END:STANDARD
END:VTIMEZONE
BEGIN:VEVENT
DTSTART;TZID=Europe/Berlin:20260321T000000
DTEND;TZID=Europe/Berlin:20260321T000000
DTSTAMP:20260424T123403
CREATED:20251218T153903Z
LAST-MODIFIED:20251218T153907Z
UID:6104-1774051200-1774051200@www.sebastian-krieger.at
SUMMARY:Ärzte-Kongress (nicht öffentlich)
DESCRIPTION:
URL:https://www.sebastian-krieger.at/termin/aerzte-kongress-nicht-oeffentlich/
LOCATION:Wien\, Wien\, Wien
CATEGORIES:Live
ATTACH;FMTTYPE=image/jpeg:https://www.sebastian-krieger.at/wp-content/uploads/2025/05/A1-Plakat-Sebastian-Krieger-2025-Solo-Kopie.jpg
END:VEVENT
BEGIN:VEVENT
DTSTART;TZID=Europe/Berlin:20260301T170000
DTEND;TZID=Europe/Berlin:20260301T193000
DTSTAMP:20260424T123403
CREATED:20251211T102704Z
LAST-MODIFIED:20251211T102704Z
UID:6093-1772384400-1772393400@www.sebastian-krieger.at
SUMMARY:Special Guest mit DIE JUNGEN TENÖRE
DESCRIPTION:
URL:https://www.sebastian-krieger.at/termin/special-guest-mit-die-jungen-tenoere-8/
LOCATION:Kirchberg am Wechsel\, Markt 116\, Kirchberg am Wechsel\, Niederösterreich\, 2880
CATEGORIES:Live
ATTACH;FMTTYPE=image/jpeg:https://www.sebastian-krieger.at/wp-content/uploads/2025/06/SiCD-Danke-sogn-mit-DJT-V2.jpg
END:VEVENT
BEGIN:VEVENT
DTSTART;TZID=Europe/Berlin:20260228T200000
DTEND;TZID=Europe/Berlin:20260228T220000
DTSTAMP:20260424T123403
CREATED:20251111T192152Z
LAST-MODIFIED:20251111T192152Z
UID:6089-1772308800-1772316000@www.sebastian-krieger.at
SUMMARY:Special Guest mit DIE JUNGEN TENÖRE
DESCRIPTION:
URL:https://www.sebastian-krieger.at/termin/special-guest-mit-die-jungen-tenoere-7/
LOCATION:Portofino Wien\, Karl-Gunsam-Gasse 1\, Wien\, Wien\, 1110\, Austria
CATEGORIES:Live
ATTACH;FMTTYPE=image/jpeg:https://www.sebastian-krieger.at/wp-content/uploads/2025/06/SiCD-Danke-sogn-mit-DJT-V2.jpg
END:VEVENT
BEGIN:VEVENT
DTSTART;TZID=Europe/Berlin:20260227T193000
DTEND;TZID=Europe/Berlin:20260227T223000
DTSTAMP:20260424T123403
CREATED:20250730T065635Z
LAST-MODIFIED:20250730T071006Z
UID:6067-1772220600-1772231400@www.sebastian-krieger.at
SUMMARY:Special Guest mit DIE JUNGEN TENÖRE
DESCRIPTION:
URL:https://www.sebastian-krieger.at/termin/special-guest-mit-die-jungen-tenoere/
LOCATION:Stadthalle\, Dr. Karl Renner Straße 1\, Schrems\, Niederösterreich\, 3943
CATEGORIES:Live
ATTACH;FMTTYPE=image/jpeg:https://www.sebastian-krieger.at/wp-content/uploads/2025/06/SiCD-Danke-sogn-mit-DJT-V2.jpg
END:VEVENT
BEGIN:VEVENT
DTSTART;TZID=Europe/Berlin:20260226T200000
DTEND;TZID=Europe/Berlin:20260226T223000
DTSTAMP:20260424T123403
CREATED:20250730T065358Z
LAST-MODIFIED:20251211T102439Z
UID:6063-1772136000-1772145000@www.sebastian-krieger.at
SUMMARY:Special Guest mit DIE JUNGEN TENÖRE
DESCRIPTION: 
URL:https://www.sebastian-krieger.at/termin/charity-mit-die-jungen-tenoere/
LOCATION:Arche Noe\, Südtiroler Platz 4\, Kufstein\, Tirol\, 6330\, Österreich
CATEGORIES:Live
ATTACH;FMTTYPE=image/jpeg:https://www.sebastian-krieger.at/wp-content/uploads/2025/06/SiCD-Danke-sogn-mit-DJT-V2.jpg
END:VEVENT
BEGIN:VEVENT
DTSTART;TZID=Europe/Berlin:20260124T190000
DTEND;TZID=Europe/Berlin:20260124T220000
DTSTAMP:20260424T123403
CREATED:20251211T102851Z
LAST-MODIFIED:20251211T102851Z
UID:6097-1769281200-1769292000@www.sebastian-krieger.at
SUMMARY:Firmenfeier (nicht öffentlich)
DESCRIPTION:
URL:https://www.sebastian-krieger.at/termin/firmenfeier-nicht-oeffentlich/
LOCATION:Tirol
CATEGORIES:Live
ATTACH;FMTTYPE=image/jpeg:https://www.sebastian-krieger.at/wp-content/uploads/2025/05/A1-Plakat-Sebastian-Krieger-2025-Solo-Kopie.jpg
END:VEVENT
BEGIN:VEVENT
DTSTART;TZID=Europe/Berlin:20260111T100000
DTEND;TZID=Europe/Berlin:20260111T120000
DTSTAMP:20260424T123403
CREATED:20251211T103021Z
LAST-MODIFIED:20260204T202714Z
UID:6100-1768125600-1768132800@www.sebastian-krieger.at
SUMMARY:Neujahrsempfang (solo)
DESCRIPTION:
URL:https://www.sebastian-krieger.at/termin/neujahrsempfang/
LOCATION:Kritzendorf\, Amtshaus\, Niederösterreich\, 3420
CATEGORIES:Live
ATTACH;FMTTYPE=image/jpeg:https://www.sebastian-krieger.at/wp-content/uploads/2025/05/A1-Plakat-Sebastian-Krieger-2025-Solo-Kopie.jpg
END:VEVENT
BEGIN:VEVENT
DTSTART;TZID=Europe/Berlin:20260109T190000
DTEND;TZID=Europe/Berlin:20260109T220000
DTSTAMP:20260424T123403
CREATED:20250730T070436Z
LAST-MODIFIED:20251218T154006Z
UID:6076-1767985200-1767996000@www.sebastian-krieger.at
SUMMARY:Special Guest mit DIE JUNGEN TENÖRE
DESCRIPTION:
URL:https://www.sebastian-krieger.at/termin/special-guest-mit-die-jungen-tenoere-3/
LOCATION:Kultur-Zelt Payerbach\, Dr. Coumont Straße 2\, Payerbach\, Niederösterreich\, 2650
CATEGORIES:Live
ATTACH;FMTTYPE=image/jpeg:https://www.sebastian-krieger.at/wp-content/uploads/2025/06/SiCD-Danke-sogn-mit-DJT-V2.jpg
END:VEVENT
BEGIN:VEVENT
DTSTART;TZID=Europe/Berlin:20251220T190000
DTEND;TZID=Europe/Berlin:20251220T213000
DTSTAMP:20260424T123403
CREATED:20250730T070711Z
LAST-MODIFIED:20250730T071049Z
UID:6082-1766257200-1766266200@www.sebastian-krieger.at
SUMMARY:Special Guest mit DIE JUNGEN TENÖRE
DESCRIPTION:
URL:https://www.sebastian-krieger.at/termin/special-guest-mit-die-jungen-tenoere-5/
LOCATION:YOUR DOME Tirol\, Alte Landstraße 15\, Schwaz\, Tirol\, 6130\, Österreich
CATEGORIES:Live
ATTACH;FMTTYPE=image/jpeg:https://www.sebastian-krieger.at/wp-content/uploads/2025/06/SiCD-Danke-sogn-mit-DJT-V2.jpg
END:VEVENT
BEGIN:VEVENT
DTSTART;TZID=Europe/Berlin:20251208T080000
DTEND;TZID=Europe/Berlin:20251208T170000
DTSTAMP:20260424T123403
CREATED:20250730T070610Z
LAST-MODIFIED:20250730T071101Z
UID:6079-1765180800-1765213200@www.sebastian-krieger.at
SUMMARY:Special Guest mit DIE JUNGEN TENÖRE
DESCRIPTION:
URL:https://www.sebastian-krieger.at/termin/special-guest-mit-die-jungen-tenoere-4/
LOCATION:Kultur-Quartier\, Theaterplatz 1\, Kufstein\, Tirol\, 6330
CATEGORIES:Live
ATTACH;FMTTYPE=image/jpeg:https://www.sebastian-krieger.at/wp-content/uploads/2025/06/SiCD-Danke-sogn-mit-DJT-V2.jpg
END:VEVENT
BEGIN:VEVENT
DTSTART;TZID=Europe/Berlin:20251123T100000
DTEND;TZID=Europe/Berlin:20251123T120000
DTSTAMP:20260424T123403
CREATED:20250710T184650Z
LAST-MODIFIED:20260204T202738Z
UID:6054-1763892000-1763899200@www.sebastian-krieger.at
SUMMARY:Austropop-Advent-Frühstück (im Duo)
DESCRIPTION:Ein gemütliches Frühstück mit stimmungsvollen Austropop-Songs …. Mein Musikerkollege Ulli Winter und ich freuen uns schon sehr darauf. Das eine oder andere Weihnachtslied darf natürlich nicht fehlen! \nhttps://cafe-am-campus.at/#dates
URL:https://www.sebastian-krieger.at/termin/austropop-advent-fruehstueck-im-duo/
LOCATION:Cafe‘ Bistro am Campus\, Am Campus 2\, Maria Gugging\, Niederösterreich\, 3400\, Österreich
CATEGORIES:Live
ATTACH;FMTTYPE=image/jpeg:https://www.sebastian-krieger.at/wp-content/uploads/2025/07/Sebastian-Krieger-Advent.jpg
END:VEVENT
BEGIN:VEVENT
DTSTART;TZID=Europe/Berlin:20251120T180000
DTEND;TZID=Europe/Berlin:20251120T220000
DTSTAMP:20260424T123403
CREATED:20250507T182546Z
LAST-MODIFIED:20250507T182546Z
UID:6025-1763661600-1763676000@www.sebastian-krieger.at
SUMMARY:66er PROMIAUKTION - Charity Tombola
DESCRIPTION:Österreichs größte Charity Tombola zusammen mit United Charity. Dank der Einladung des Paradeunternehmens der Autobranche\, Mercedes PAPPAS und unserem Freund Peter Rothgänger\, der es für Global Family eingefädelt hat!\n\n\n\n\n\n66 Raritäten werden von Stars und Athleten gespendet oder repräsentiert. Luxus / Kunst / Weine / Trophäen werden z.T. Live und zum Großteil über einen längeren Zeitraum auf United Charity versteigert werden.
URL:https://www.sebastian-krieger.at/termin/66er-promiauktion-charity-tombola/
LOCATION:Pappas Salzburg\, Innsbrucker Bundesstraße 111\, Salzburg\, Salzburg\, 5020\, Austria
CATEGORIES:Live
ATTACH;FMTTYPE=image/jpeg:https://www.sebastian-krieger.at/wp-content/uploads/2025/05/A1-Plakat-Sebastian-Krieger-2025-Solo-Kopie.jpg
END:VEVENT
BEGIN:VEVENT
DTSTART;TZID=Europe/Berlin:20251107T193000
DTEND;TZID=Europe/Berlin:20251107T223000
DTSTAMP:20260424T123403
CREATED:20241006T083250Z
LAST-MODIFIED:20260204T202805Z
UID:5968-1762543800-1762554600@www.sebastian-krieger.at
SUMMARY:Austropop meets "Gansl" (im Trio)
DESCRIPTION:November ist Ganslzeit. Im Gasthof Unsinn gibt es die fantastische Möglichkeit\, ein hervorragendes Gansl und im Anschluss ein abwechslungsreiches Austropop-Konzert zu geniessen. \nTickets Konzert: € 12\,00 \nTickets Konzert inkl. Portion Gansl: € 45\,00 \n 
URL:https://www.sebastian-krieger.at/termin/austropop-meets-gansl/
LOCATION:Gasthof Unsinn\, Himberger Straße 49\, Wien\, Wien\, 1100\, Austria
CATEGORIES:Live
ATTACH;FMTTYPE=image/jpeg:https://www.sebastian-krieger.at/wp-content/uploads/2023/05/A1-Plakat-Sebastian-Krieger-2023-im-Trio.jpg
END:VEVENT
BEGIN:VEVENT
DTSTART;TZID=Europe/Berlin:20251005T193000
DTEND;TZID=Europe/Berlin:20251005T223000
DTSTAMP:20260424T123403
CREATED:20250730T071346Z
LAST-MODIFIED:20250730T071400Z
UID:6086-1759692600-1759703400@www.sebastian-krieger.at
SUMMARY:Special Guest mit DIE JUNGEN TENÖRE
DESCRIPTION:
URL:https://www.sebastian-krieger.at/termin/special-guest-mit-die-jungen-tenoere-6/
LOCATION:Hotel Neufelder See\, Eisenstädter-Straße 35\, Neufeld an der Leitha\, Burgenland\, 2491
CATEGORIES:Live
ATTACH;FMTTYPE=image/jpeg:https://www.sebastian-krieger.at/wp-content/uploads/2025/06/SiCD-Danke-sogn-mit-DJT-V2.jpg
END:VEVENT
BEGIN:VEVENT
DTSTART;TZID=Europe/Berlin:20251004T200000
DTEND;TZID=Europe/Berlin:20251004T223000
DTSTAMP:20260424T123403
CREATED:20250730T070031Z
LAST-MODIFIED:20250730T070955Z
UID:6071-1759608000-1759617000@www.sebastian-krieger.at
SUMMARY:Special Guest mit DIE JUNGEN TENÖRE
DESCRIPTION:
URL:https://www.sebastian-krieger.at/termin/special-guest-mit-die-jungen-tenoere-2/
LOCATION:Kulturzentrum Lenzing\, Johann-Böhm-Straße 1\, Lenzing\, Oberösterreich\, 4860
CATEGORIES:Live
ATTACH;FMTTYPE=image/jpeg:https://www.sebastian-krieger.at/wp-content/uploads/2025/06/SiCD-Danke-sogn-mit-DJT-V2.jpg
END:VEVENT
BEGIN:VEVENT
DTSTART;TZID=Europe/Berlin:20250906T130000
DTEND;TZID=Europe/Berlin:20250906T140000
DTSTAMP:20260424T123403
CREATED:20250730T064900Z
LAST-MODIFIED:20250730T064900Z
UID:6061-1757163600-1757167200@www.sebastian-krieger.at
SUMMARY:Taufe (privat)
DESCRIPTION:
URL:https://www.sebastian-krieger.at/termin/taufe-privat/
LOCATION:privat
CATEGORIES:Live
ATTACH;FMTTYPE=image/jpeg:https://www.sebastian-krieger.at/wp-content/uploads/2025/05/A1-Plakat-Sebastian-Krieger-2025-Solo-Kopie.jpg
END:VEVENT
BEGIN:VEVENT
DTSTART;TZID=Europe/Berlin:20250829T181500
DTEND;TZID=Europe/Berlin:20250829T220000
DTSTAMP:20260424T123403
CREATED:20250619T080331Z
LAST-MODIFIED:20250710T184925Z
UID:6044-1756491300-1756504800@www.sebastian-krieger.at
SUMMARY:NACHKLANG - WIENER ZENTRALFRIEDHOF mit DIE JUNGEN TENÖRE
DESCRIPTION:Nachklang – Open-Air-Konzert auf dem Wiener Zentralfriedhof am 29. August 2025 \nDas traditionelle Open-Air-Konzert „Nachklang“ der Bestattung Wien und Friedhöfe Wien findet heuer zum Ausklang der Sommerferien am Freitag\, 29. August 2025\, ab 18:15 Uhr auf dem Wiener Zentralfriedhof statt. \nBei freiem Eintritt und freier Platzwahl wird auf der Bühne vor der Friedhofskirche zum Heiligen Karl Borromäus ein musikalisches Potpourri von Opernarien bis Wiener Mundartrock geboten. Ein Schwerpunkt der Lieder und Kompositionen liegt wieder bei Künstler*innen\, die auf dem Wiener Zentralfriedhof bestattet sind. \n\nDie Gruppen Vienna City Brass sowie Festklang (www.festklang.at) mit Musiker*innen der Staats- und Volksoper werden den Abend eröffnen.\n„Die Jungen Tenöre“ (https://3jungentenoere.de) bilden den Höhepunkt des Abends. Seit mittlerweile 28 Jahren stehen Ilja Martin\, Carlos Sanchez und Matthias Eger für musikalische Brillanz auf der Bühne. Zum allerersten Mal wagen sie sich beim Nachklang-Konzert ins Terrain des Austropop – und das nicht allein. Gemeinsam mit dem Austropop-Singer-Songwriter Sebastian Krieger (www.sebastian-krieger.at) werden sie Songs der Austropop-Legenden Hansi Dujmic und Ostbahn-Kurti zum Besten geben.\nAbgeschlossen wird das Open-Air-Konzert von der Ostpartie – der Ostbahn-Kurti Tribute Band (http://www.ostpartie.at).\n\nModeriert wird der Abend vom Kabarettist*innen-Paar Monica Weinzettl & Gerold Rudle (https://weinzettl-rudle.at/). \n 
URL:https://www.sebastian-krieger.at/termin/nachklang-wiener-zentralfriedhof-mit-die-jungen-tenoere/
LOCATION:Wiener Zentralfriedhof\, Simmeringer Hauptstraße 234\, Wien\, Wien\, 1110
CATEGORIES:Live
ATTACH;FMTTYPE=image/jpeg:https://www.sebastian-krieger.at/wp-content/uploads/2025/06/SiCD-Danke-sogn-mit-DJT-V2.jpg
END:VEVENT
BEGIN:VEVENT
DTSTART;TZID=Europe/Berlin:20250620T170000
DTEND;TZID=Europe/Berlin:20250620T180000
DTSTAMP:20260424T123403
CREATED:20250209T180248Z
LAST-MODIFIED:20250209T180252Z
UID:6002-1750438800-1750442400@www.sebastian-krieger.at
SUMMARY:Private Geburtstagsfeier
DESCRIPTION:
URL:https://www.sebastian-krieger.at/termin/private-geburtstagsfeier/
LOCATION:privat
CATEGORIES:Live
ATTACH;FMTTYPE=image/jpeg:https://www.sebastian-krieger.at/wp-content/uploads/2024/02/SiCD-Sebastian-Krieger-Danke-sogn-V1.jpg
END:VEVENT
BEGIN:VEVENT
DTSTART;TZID=Europe/Berlin:20250511T150000
DTEND;TZID=Europe/Berlin:20250511T170000
DTSTAMP:20260424T123403
CREATED:20250102T174723Z
LAST-MODIFIED:20250507T171141Z
UID:5987-1746975600-1746982800@www.sebastian-krieger.at
SUMMARY:ABGESAGT! Austropop-Muttertags-Konzert im Duo
DESCRIPTION:Aufgrund der schlechten Wettervorhersage wird das Muttertagskonzert abgesagt. \nDas Muttertagsfest wird zum Sommerfest am 3. August 2025! \n 
URL:https://www.sebastian-krieger.at/termin/austropop-muttertags-konzert-im-duo/
LOCATION:Jausenstation Erdbeere\, In der Au 12\, Klosterneuburg\, Niederösterreich\, 3400\, Austria
CATEGORIES:Live
ATTACH;FMTTYPE=image/jpeg:https://www.sebastian-krieger.at/wp-content/uploads/2023/04/Sebastian-Duo-Layout-klein-Kopie.jpg
END:VEVENT
BEGIN:VEVENT
DTSTART;TZID=Europe/Berlin:20250421T170000
DTEND;TZID=Europe/Berlin:20250421T170000
DTSTAMP:20260424T123403
CREATED:20250123T090712Z
LAST-MODIFIED:20250123T090720Z
UID:5993-1745254800-1745254800@www.sebastian-krieger.at
SUMMARY:Schlager & Austropop
DESCRIPTION:Wir sorgen für einen stimmungsvollen Abend! Aufwärmphase mit Schlager-Hits von Berny und dann gehts weiter mit den größten Austropop-Songs von mir und meinem Duo-Partner Ulli Winter! \nGrafik: Substanz Werbeagentur
URL:https://www.sebastian-krieger.at/termin/schlager-austropop/
LOCATION:Panoramaschenke\, Filmteichstraße 5\, Wien\, Wien\, 1100\, Austria
CATEGORIES:Live
ATTACH;FMTTYPE=image/jpeg:https://www.sebastian-krieger.at/wp-content/uploads/2025/01/A1-Plakat-Sebastian-Krieger-2025-im-Duo-Bernie.jpg
END:VEVENT
BEGIN:VEVENT
DTSTART;TZID=Europe/Berlin:20250319T150000
DTEND;TZID=Europe/Berlin:20250319T160000
DTSTAMP:20260424T123403
CREATED:20250209T180013Z
LAST-MODIFIED:20250209T180134Z
UID:5999-1742396400-1742400000@www.sebastian-krieger.at
SUMMARY:Austropop-Solokonzert
DESCRIPTION:
URL:https://www.sebastian-krieger.at/termin/austropop-solokonzert/
LOCATION:Häuser zum Leben – Haus Wieden\, Ziegelofengasse 6a\, Wien\, Wien\, 1040\, Austria
CATEGORIES:Live
ATTACH;FMTTYPE=image/jpeg:https://www.sebastian-krieger.at/wp-content/uploads/2024/02/SiCD-Sebastian-Krieger-Danke-sogn-V1.jpg
END:VEVENT
BEGIN:VEVENT
DTSTART;TZID=Europe/Berlin:20250315T193000
DTEND;TZID=Europe/Berlin:20250315T234500
DTSTAMP:20260424T123403
CREATED:20241107T135941Z
LAST-MODIFIED:20241107T135950Z
UID:5979-1742067000-1742082300@www.sebastian-krieger.at
SUMMARY:Best of Austropop
DESCRIPTION:
URL:https://www.sebastian-krieger.at/termin/best-of-austropop/
LOCATION:Cafe Gehmacher\, Judengasse 7\, Salzburg\, Salzburg\, 5020\, Austria
CATEGORIES:Live
ATTACH;FMTTYPE=image/jpeg:https://www.sebastian-krieger.at/wp-content/uploads/2023/04/Sebastian-Duo-Layout-klein-Kopie.jpg
END:VEVENT
BEGIN:VEVENT
DTSTART;VALUE=DATE:20250110
DTEND;VALUE=DATE:20250113
DTSTAMP:20260424T123403
CREATED:20241006T082622Z
LAST-MODIFIED:20241216T125805Z
UID:5964-1736467200-1736726399@www.sebastian-krieger.at
SUMMARY:ABGESAGT! - KOSOVO - Künstler im Einsatz für den Frieden
DESCRIPTION:Das wird eine aufregende Reise …. Ich war noch nie in einem Kriegsgebiet. Und es freut mich\, dass ich gemeinsam mit meinen Jungs dem österreichischen Bundesheer eine musikalische Freude bereiten darf! \n 
URL:https://www.sebastian-krieger.at/termin/kosovo-kuenstler-im-einsatz-fuer-den-frieden/
LOCATION:Kosovo\, Kosovo
CATEGORIES:Live
ATTACH;FMTTYPE=image/jpeg:https://www.sebastian-krieger.at/wp-content/uploads/2023/05/A1-Plakat-Sebastian-Krieger-2023-im-Trio.jpg
END:VEVENT
BEGIN:VEVENT
DTSTART;TZID=Europe/Berlin:20241230T190000
DTEND;TZID=Europe/Berlin:20241230T220000
DTSTAMP:20260424T123403
CREATED:20241023T113150Z
LAST-MODIFIED:20241023T113215Z
UID:5976-1735585200-1735596000@www.sebastian-krieger.at
SUMMARY:Austropop zum Jahresende im Trio
DESCRIPTION:
URL:https://www.sebastian-krieger.at/termin/austropop-zum-jahresende-im-trio/
LOCATION:Kierlingerhof\, Hauptstraße 146\, Kierling\, Niederösterreich\, 3400\, Austria
CATEGORIES:Live
ATTACH;FMTTYPE=image/jpeg:https://www.sebastian-krieger.at/wp-content/uploads/2023/05/A1-Plakat-Sebastian-Krieger-2023-im-Trio.jpg
END:VEVENT
BEGIN:VEVENT
DTSTART;TZID=Europe/Berlin:20240928T143000
DTEND;TZID=Europe/Berlin:20240928T171500
DTSTAMP:20260424T123403
CREATED:20240725T123523Z
LAST-MODIFIED:20240725T160116Z
UID:5936-1727533800-1727543700@www.sebastian-krieger.at
SUMMARY:Austropop vom Feinsten beim Kaiviertelfest im Trio
DESCRIPTION:Ich freue mich auf Salzburg! \n \nhttps://kaiviertelfest.at
URL:https://www.sebastian-krieger.at/termin/austropop-vom-feinsten-im-trio/
LOCATION:Kaiviertelfest Salzburg\, Altstadt\, Salzburg\, Salzburg\, 5020\, Österreich
CATEGORIES:Live
ATTACH;FMTTYPE=image/jpeg:https://www.sebastian-krieger.at/wp-content/uploads/2023/05/A1-Plakat-Sebastian-Krieger-2023-im-Trio.jpg
END:VEVENT
BEGIN:VEVENT
DTSTART;TZID=Europe/Berlin:20240914T160000
DTEND;TZID=Europe/Berlin:20240914T170000
DTSTAMP:20260424T123403
CREATED:20240417T103612Z
LAST-MODIFIED:20240704T092937Z
UID:5910-1726329600-1726333200@www.sebastian-krieger.at
SUMMARY:Best of Austropop mit der Austropop-Legenden-BAND
DESCRIPTION:Ich freue mich riesig\, wieder mit meiner genialen Band auf der Bühne zu stehen!
URL:https://www.sebastian-krieger.at/termin/best-of-austropop-mit-der-austropop-legenden-band/
LOCATION:Wiener Herbst der ÖVP\, Wien
CATEGORIES:Live
ATTACH;FMTTYPE=image/jpeg:https://www.sebastian-krieger.at/wp-content/uploads/2023/04/A1-Plakat-Sebastian-Krieger-2023-mit-Band.jpg
END:VEVENT
BEGIN:VEVENT
DTSTART;TZID=Europe/Berlin:20240830T180000
DTEND;TZID=Europe/Berlin:20240830T213000
DTSTAMP:20260424T123403
CREATED:20240704T092619Z
LAST-MODIFIED:20240704T092823Z
UID:5928-1725040800-1725053400@www.sebastian-krieger.at
SUMMARY:Austropop meets Schlager
DESCRIPTION:Das wird ein buntes Programm! Austropop vom Feinsten gemeinsam mit Schlager- und Pophits vom Stimmungsmacher Christian Stern. Natürlich werden wir auch gemeinsam einige Songs performen! Wir freuen uns! \nMusikerbeitrag inkl einem Glas Sekt € 10\,00.
URL:https://www.sebastian-krieger.at/termin/austropop-meets-schlager/
LOCATION:Kierlingerhof\, Hauptstraße 146\, Kierling\, Niederösterreich\, 3400\, Austria
CATEGORIES:Live
ATTACH;FMTTYPE=image/jpeg:https://www.sebastian-krieger.at/wp-content/uploads/2024/02/SiCD-Sebastian-Krieger-Danke-sogn-V1.jpg
END:VEVENT
BEGIN:VEVENT
DTSTART;TZID=Europe/Berlin:20240727T210000
DTEND;TZID=Europe/Berlin:20240727T233000
DTSTAMP:20260424T123403
CREATED:20231222T130401Z
LAST-MODIFIED:20240704T092846Z
UID:5849-1722114000-1722123000@www.sebastian-krieger.at
SUMMARY:Best of Austropop im Trio (privat)
DESCRIPTION:nicht für die Öffentlichkeit
URL:https://www.sebastian-krieger.at/termin/private-geburtstagsfeier-im-trio/
LOCATION:Niederösterreich\, Niederösterreich\, Algerien
CATEGORIES:Live
ATTACH;FMTTYPE=image/jpeg:https://www.sebastian-krieger.at/wp-content/uploads/2023/05/A1-Plakat-Sebastian-Krieger-2023-im-Trio.jpg
END:VEVENT
BEGIN:VEVENT
DTSTART;TZID=Europe/Berlin:20240722T160000
DTEND;TZID=Europe/Berlin:20240722T183000
DTSTAMP:20260424T123403
CREATED:20240417T104034Z
LAST-MODIFIED:20240704T092915Z
UID:5914-1721664000-1721673000@www.sebastian-krieger.at
SUMMARY:Best of Austropop solo - Hochzeit (privat)
DESCRIPTION:nicht für die Öffentlichkeit
URL:https://www.sebastian-krieger.at/termin/best-of-austropop-solo-hochzeit-privat/
LOCATION:Wien\, Wien\, Wien
CATEGORIES:Live
ATTACH;FMTTYPE=image/jpeg:https://www.sebastian-krieger.at/wp-content/uploads/2024/02/SiCD-Sebastian-Krieger-Danke-sogn-V1.jpg
END:VEVENT
BEGIN:VEVENT
DTSTART;TZID=Europe/Berlin:20240607T190000
DTEND;TZID=Europe/Berlin:20240607T210000
DTSTAMP:20260424T123403
CREATED:20240417T103020Z
LAST-MODIFIED:20240417T103228Z
UID:5903-1717786800-1717794000@www.sebastian-krieger.at
SUMMARY:Best of Austropop im Trio live
DESCRIPTION:Der YOUR DOME Tirol feiert sein 1jähriges Jubiläum! Ich freue mich gemeinsam mit meinen Bandkollegen Andi Vanura und Fredi Kern die Bühne rocken zu dürfen!
URL:https://www.sebastian-krieger.at/termin/best-of-austropop-im-trio-live/
LOCATION:YOUR DOME Tirol\, Alte Landstraße 15\, Schwaz\, Tirol\, 6130\, Österreich
CATEGORIES:Live
ATTACH;FMTTYPE=image/jpeg:https://www.sebastian-krieger.at/wp-content/uploads/2023/05/A1-Plakat-Sebastian-Krieger-2023-im-Trio.jpg
END:VEVENT
END:VCALENDAR