BEGIN:VCALENDAR
VERSION:2.0
PRODID:-//Sebastian Krieger - Liedermacher - Austropop - ECPv6.15.20//NONSGML v1.0//EN
CALSCALE:GREGORIAN
METHOD:PUBLISH
X-ORIGINAL-URL:https://www.sebastian-krieger.at
X-WR-CALDESC:Veranstaltungen für Sebastian Krieger - Liedermacher - Austropop
REFRESH-INTERVAL;VALUE=DURATION:PT1H
X-Robots-Tag:noindex
X-PUBLISHED-TTL:PT1H
BEGIN:VTIMEZONE
TZID:Europe/Berlin
BEGIN:DAYLIGHT
TZOFFSETFROM:+0100
TZOFFSETTO:+0200
TZNAME:CEST
DTSTART:20250330T010000
END:DAYLIGHT
BEGIN:STANDARD
TZOFFSETFROM:+0200
TZOFFSETTO:+0100
TZNAME:CET
DTSTART:20251026T010000
END:STANDARD
BEGIN:DAYLIGHT
TZOFFSETFROM:+0100
TZOFFSETTO:+0200
TZNAME:CEST
DTSTART:20260329T010000
END:DAYLIGHT
BEGIN:STANDARD
TZOFFSETFROM:+0200
TZOFFSETTO:+0100
TZNAME:CET
DTSTART:20261025T010000
END:STANDARD
BEGIN:DAYLIGHT
TZOFFSETFROM:+0100
TZOFFSETTO:+0200
TZNAME:CEST
DTSTART:20270328T010000
END:DAYLIGHT
BEGIN:STANDARD
TZOFFSETFROM:+0200
TZOFFSETTO:+0100
TZNAME:CET
DTSTART:20271031T010000
END:STANDARD
BEGIN:DAYLIGHT
TZOFFSETFROM:+0100
TZOFFSETTO:+0200
TZNAME:CEST
DTSTART:20280326T010000
END:DAYLIGHT
BEGIN:STANDARD
TZOFFSETFROM:+0200
TZOFFSETTO:+0100
TZNAME:CET
DTSTART:20281029T010000
END:STANDARD
END:VTIMEZONE
BEGIN:VEVENT
DTSTART;TZID=Europe/Berlin:20260426T150000
DTEND;TZID=Europe/Berlin:20260426T180000
DTSTAMP:20260420T153715
CREATED:20260204T202314Z
LAST-MODIFIED:20260304T082722Z
UID:6121-1777215600-1777226400@www.sebastian-krieger.at
SUMMARY:Frühlingsfest am Schelhammerhof (im Duo)
DESCRIPTION:
URL:https://www.sebastian-krieger.at/termin/fruehlingsfest-kritzendorf-im-duo/
LOCATION:Vitovec Heuriger Kritzendorf\, Hauptstraße 24\, Kritzendorf\, Niederösterreich\, 3420
CATEGORIES:Live
ATTACH;FMTTYPE=image/jpeg:https://www.sebastian-krieger.at/wp-content/uploads/2023/04/Sebastian-Duo-Layout-klein-Kopie.jpg
END:VEVENT
BEGIN:VEVENT
DTSTART;TZID=Europe/Berlin:20260613T120000
DTEND;TZID=Europe/Berlin:20260613T160000
DTSTAMP:20260420T153715
CREATED:20260304T082309Z
LAST-MODIFIED:20260304T082753Z
UID:6131-1781352000-1781366400@www.sebastian-krieger.at
SUMMARY:Austropop auf der Alm (im Duo)
DESCRIPTION:Ich freue mich riesig\, musikalisch gemeinsam mit meinem Duopartner Ulli Winter beim legendären Schwaigen-Fest mit dabei zu sein!
URL:https://www.sebastian-krieger.at/termin/austropop-im-duo-auf-der-alm/
LOCATION:STOA Alm\, Neustift am Alpenwalde 37\, Aspangberg\, Niederösterreich\, 2870
CATEGORIES:Live
ATTACH;FMTTYPE=image/jpeg:https://www.sebastian-krieger.at/wp-content/uploads/2023/04/Sebastian-Duo-Layout-klein-Kopie.jpg
END:VEVENT
BEGIN:VEVENT
DTSTART;TZID=Europe/Berlin:20260718T160000
DTEND;TZID=Europe/Berlin:20260718T200000
DTSTAMP:20260420T153715
CREATED:20260322T102759Z
LAST-MODIFIED:20260322T102804Z
UID:6146-1784390400-1784404800@www.sebastian-krieger.at
SUMMARY:Firmen-Grill-Party (nicht öffentlich) im DUO
DESCRIPTION:
URL:https://www.sebastian-krieger.at/termin/firmen-grill-party-nicht-oeffentlich-im-duo/
LOCATION:Wien\, Wien\, Wien
CATEGORIES:Live
ATTACH;FMTTYPE=image/jpeg:https://www.sebastian-krieger.at/wp-content/uploads/2023/04/Sebastian-Duo-Layout-klein-Kopie.jpg
END:VEVENT
BEGIN:VEVENT
DTSTART;TZID=Europe/Berlin:20260731T180000
DTEND;TZID=Europe/Berlin:20260731T223000
DTSTAMP:20260420T153715
CREATED:20260105T143721Z
LAST-MODIFIED:20260129T150617Z
UID:6107-1785520800-1785537000@www.sebastian-krieger.at
SUMMARY:Private Geburtstagsfeier (im Duo)
DESCRIPTION:
URL:https://www.sebastian-krieger.at/termin/private-geburtstagsfeier-im-duo/
LOCATION:Baden – geschlossene Gesellschaft\, Baden bei Wien\, Niederösterreich\, 2500
CATEGORIES:Live
ATTACH;FMTTYPE=image/jpeg:https://www.sebastian-krieger.at/wp-content/uploads/2023/04/Sebastian-Duo-Layout-klein-Kopie.jpg
END:VEVENT
BEGIN:VEVENT
DTSTART;TZID=Europe/Berlin:20261011T160000
DTEND;TZID=Europe/Berlin:20261011T183000
DTSTAMP:20260420T153715
CREATED:20260129T150901Z
LAST-MODIFIED:20260204T202623Z
UID:6110-1791734400-1791743400@www.sebastian-krieger.at
SUMMARY:Austropop-Nachmittag (im Duo)
DESCRIPTION:Es freut mich riesig\, gemeinsam mit meinem Pianisten auf so einer legendären Bühne auftreten zu dürfen!
URL:https://www.sebastian-krieger.at/termin/austropop-nachmittag/
LOCATION:Tschocherl\, Wurmsergasse 42\, Wien\, Wien\, 1150
CATEGORIES:Live
ATTACH;FMTTYPE=image/jpeg:https://www.sebastian-krieger.at/wp-content/uploads/2023/04/Sebastian-Duo-Layout-klein-Kopie.jpg
END:VEVENT
BEGIN:VEVENT
DTSTART;TZID=Europe/Berlin:20270102T200000
DTEND;TZID=Europe/Berlin:20270102T223000
DTSTAMP:20260420T153715
CREATED:20260322T103017Z
LAST-MODIFIED:20260322T103017Z
UID:6150-1798920000-1798929000@www.sebastian-krieger.at
SUMMARY:Special Guest mit DIE JUNGEN TENÖE
DESCRIPTION:
URL:https://www.sebastian-krieger.at/termin/special-guest-mit-die-jungen-tenoee/
LOCATION:Portofino Wien\, Karl-Gunsam-Gasse 1\, Wien\, Wien\, 1110\, Austria
CATEGORIES:Live
ATTACH;FMTTYPE=image/jpeg:https://www.sebastian-krieger.at/wp-content/uploads/2025/06/SiCD-Danke-sogn-mit-DJT-V2.jpg
END:VEVENT
BEGIN:VEVENT
DTSTART;TZID=Europe/Berlin:20270103T170000
DTEND;TZID=Europe/Berlin:20270103T193000
DTSTAMP:20260420T153715
CREATED:20260322T103406Z
LAST-MODIFIED:20260322T103406Z
UID:6153-1798995600-1799004600@www.sebastian-krieger.at
SUMMARY:Special Guest mit DIE JUNGEN TENÖRE
DESCRIPTION:
URL:https://www.sebastian-krieger.at/termin/special-guest-mit-die-jungen-tenoere-10/
LOCATION:Gasthaus zur 1000jährigen Linde – Veranstaltungssaal\, Markt 116\, Kirchberg am Wechsel\, Niederösterreich\, 2880
CATEGORIES:Live
ATTACH;FMTTYPE=image/jpeg:https://www.sebastian-krieger.at/wp-content/uploads/2025/05/SiCD-Danke-sogn-mit-DJT-V2.jpg
END:VEVENT
BEGIN:VEVENT
DTSTART;TZID=Europe/Berlin:20270104T200000
DTEND;TZID=Europe/Berlin:20270304T220000
DTSTAMP:20260420T153715
CREATED:20260322T102559Z
LAST-MODIFIED:20260322T102604Z
UID:6142-1799092800-1804197600@www.sebastian-krieger.at
SUMMARY:Special Guest mit DIE JUNGEN TENÖRE
DESCRIPTION:
URL:https://www.sebastian-krieger.at/termin/special-guest-mit-die-jungen-tenoere-9/
LOCATION:Kultursaal – Kultur am Pillersee\, Neuwieben 47\, St. Ulrich a. Pillersee\, Tirol\, 6393
CATEGORIES:Live
ATTACH;FMTTYPE=image/jpeg:https://www.sebastian-krieger.at/wp-content/uploads/2025/06/SiCD-Danke-sogn-mit-DJT-V2.jpg
END:VEVENT
END:VCALENDAR